dset /data1/WRF/em_202301/wrfout_d01_2023-01-21_00:00:00
DTYPE netcdf
undef 1.e30
title  OUTPUT FROM WRF V4.6.1 MODEL
xdef 300 linear 0.1 0.1
ydef 301 linear 0.1 0.1
zdef 64 linear 1.0 1.0
tdef 193 linear 00Z21JAN2023      60MN      
VARS    1
V=>V 64 t,z,y,x x-wind component (m s-1)
ENDVARS
